{"text_format":"1","workbook":"xlsx","n_sheets":9,"sheets":["Schütze1","Schütze2","Schütze3","Schütze4","Schütze5","Schütze6","Schütze7","Schütze8","Schütze9"],"not_rendered":{"charts":0,"images":1,"macros":0,"external_links":0,"defined_names":0,"comments":0,"pivot_tables":0},"unopened":[],"bounds":{"document_bytes":16777216,"sheet_cells":100000,"rows_first":2000,"rows_last":500,"rows_between":2000,"halvings":0,"cell_chars":16384,"cell_head_chars":4096},"cells_cut":0,"cells_raw":0,"read":"whole","date_system":"1900"}

{"sheet":"Schütze1","index":0,"n_rows":50,"n_cols":15,"rows_kept":50,"cut":false,"hidden":false,"merged":[[37,3,37,12],[17,0,17,1],[19,0,19,1],[11,3,11,12],[47,9,47,11],[41,0,41,1],[43,0,43,1],[45,0,45,1],[13,0,13,1],[15,0,15,1],[39,0,39,1],[35,3,35,11],[8,13,8,14],[34,13,34,14],[32,12,32,14],[33,3,33,11],[9,3,9,11],[31,0,31,10],[21,9,21,11],[34,3,34,4],[3,0,3,2],[7,0,7,2],[8,3,8,4],[2,12,3,13],[5,0,5,11],[7,13,7,14],[7,3,7,11],[29,0,29,2],[33,0,33,2]]}
[]
[]
[]
[]
[]
[{"$f":"\"Corona Veteranen-Wettkampf \" &YEAR(TODAY())","v":"Corona Veteranen-Wettkampf 2020"}]
[]
["Name / Vorname",null,null,null,null,null,null,null,null,null,null,null,null,"Doppelpreis Fr. 20.--"]
["Jahrgang:",null,null,null,null,null,null,null,null,null,null,null,null,"Stellung"]
["Sektion:",null,null,null,null,null,null,null,null,null,null,null,null,"A oder F"]
[]
[null,null,null,"30 Schuss 10-er Scheibe (2 pro Karton)"]
[]
["Scheiben Nr. von - bis"]
[null,null,null,null,null,null,null,null,null,null,null,null,null,"Total"]
[null,null,"1. Passe",null,null,null,null,null,null,null,null,null,null,{"$f":"SUM(D16:M16)","v":0}]
[]
[null,null,"2. Passe",null,null,null,null,null,null,null,null,null,null,{"$f":"SUM(D18:M18)","v":0}]
[]
[null,null,"3. Passe",null,null,null,null,null,null,null,null,null,null,{"$f":"SUM(D20:M20)","v":0}]
[]
[null,null,null,null,null,null,null,null,null,"Total",null,null,null,{"$f":"SUM(N16:N21)","v":0}]
[]
["__"]
[]
[]
[]
[]
[]
["EASV"]
[]
[{"$f":"A6","v":"Corona Veteranen-Wettkampf 2020"},null,null,null,null,null,null,null,null,null,null,null,"Doppel für den Schützen"]
[null,null,null,null,null,null,null,null,null,null,null,null,"Doppelpreis Fr. 20.--"]
["Name / Vorname",null,null,{"$f":"(D8)","v":0}]
["Jahrgang:",null,null,{"$f":"(D9)","v":0},null,null,null,null,null,null,null,null," ","Stellung"]
["Sektion:",null,null,{"$f":"(D10)","v":0},null,null,null,null,null,null,null,null,null,"A oder F",{"$f":"O10","v":0}]
[]
[null,null,null,"30 Schuss 10-er Scheibe (2 pro Karton)"]
[]
["Scheiben Nr. von - bis"]
[null,null,null,null,null,null,null,null,null,null,null,null,null,"Total"]
[{"$f":"(A16)","v":0},null,"1. Passe",{"$f":"D16","v":0},{"$f":"E16","v":0},0,0,0,0,0,0,0,0,{"$f":"SUM(D42:M42)","v":0}]
[]
[{"$f":"(A18)","v":0},null,"2. Passe",{"$f":"D18","v":0},0,0,0,0,0,0,0,0,0,{"$f":"SUM(D44:M44)","v":0}]
[]
[{"$f":"(A20)","v":0},null,"3. Passe",{"$f":"D20","v":0},0,0,0,0,0,0,0,0,0,{"$f":"SUM(D46:M46)","v":0}]
[]
[{"$f":"A22","v":"00:00:00"},null,null,null,null,null,null,null,null,"Total",null,null,null,{"$f":"SUM(N42:N47)","v":0}]
[]
["Ernst Hollenstein","Hotzenmattstr. 9",null,"8915 Hausen/a.A.",null,null,null,"044 713 12 44",null,null,"079 240 39 64",null,null,"holli41@bluewin.ch"]

{"sheet":"Schütze2","index":1,"n_rows":51,"n_cols":15,"rows_kept":51,"cut":false,"hidden":false,"merged":[[15,0,15,1],[2,12,3,13],[3,0,3,2],[5,0,5,11],[7,0,7,2],[7,3,7,11],[7,13,7,14],[8,3,8,4],[8,13,8,14],[9,3,9,11],[11,3,11,12],[13,0,13,1],[38,3,38,12],[17,0,17,1],[19,0,19,1],[21,9,21,11],[30,0,30,2],[32,0,32,10],[33,12,33,14],[34,0,34,2],[44,0,44,1],[46,0,46,1],[48,9,48,11],[34,3,34,11],[35,3,35,4],[35,13,35,14],[36,3,36,11],[40,0,40,1],[42,0,42,1]]}
[]
[]
[]
[]
[]
[{"$f":"Schütze1!$A$6","v":"Corona Veteranen-Wettkampf 2020"}]
[]
["Name / Vorname",null,null,null,null,null,null,null,null,null,null,null,null,"Doppelpreis Fr. 20.--"]
["Jahrgang:",null,null,null,null,null,null,null,null,null,null,null,null,"Stellung"]
["Sektion:",null,null,null,null,null,null,null,null,null,null,null,null,"A oder F"]
[]
[null,null,null,"30 Schuss 10-er Scheibe (2 pro Karton)"]
[]
["Scheiben Nr. von - bis"]
[null,null,null,null,null,null,null,null,null,null,null,null,null,"Total"]
[null,null,"1. Passe",null,null,null,null,null,null,null,null,null,null,{"$f":"SUM(D16:M16)","v":0}]
[]
[null,null,"2. Passe",null,null,null,null,null,null,null,null,null,null,{"$f":"SUM(D18:M18)","v":0}]
[]
[null,null,"3. Passe",null,null,null,null,null,null,null,null,null,null,{"$f":"SUM(D20:M20)","v":0}]
[]
[null,null,null,null,null,null,null,null,null,"Total",null,null,null,{"$f":"SUM(N16:N21)","v":0}]
[]
["__"]
[]
[]
[]
[]
[]
[]
["EASV"]
[]
[{"$f":"A6","v":"Corona Veteranen-Wettkampf 2020"},null,null,null,null,null,null,null,null,null,null,null,"Doppel für den Schützen"]
[null,null,null,null,null,null,null,null,null,null,null,null,"Doppelpreis Fr. 20.--"]
["Name / Vorname",null,null,{"$f":"(D8)","v":0}]
["Jahrgang:",null,null,{"$f":"(D9)","v":0},null,null,null,null,null,null,null,null," ","Stellung"]
["Sektion:",null,null,{"$f":"(D10)","v":0},null,null,null,null,null,null,null,null,null,"A oder F",{"$f":"O10","v":0}]
[]
[null,null,null,"30 Schuss 10-er Scheibe (2 pro Karton)"]
[]
["Scheiben Nr. von - bis"]
[null,null,null,null,null,null,null,null,null,null,null,null,null,"Total"]
[{"$f":"(A16)","v":0},null,"1. Passe",{"$f":"D16","v":0},{"$f":"E16","v":0},0,0,0,0,0,0,0,0,{"$f":"SUM(D43:M43)","v":0}]
[]
[{"$f":"(A18)","v":0},null,"2. Passe",{"$f":"D18","v":0},0,0,0,0,0,0,0,0,0,{"$f":"SUM(D45:M45)","v":0}]
[]
[{"$f":"(A20)","v":0},null,"3. Passe",{"$f":"D20","v":0},0,0,0,0,0,0,0,0,0,{"$f":"SUM(D47:M47)","v":0}]
[]
[{"$f":"A22","v":"00:00:00"},null,null,null,null,null,null,null,null,"Total",null,null,null,{"$f":"SUM(N43:N48)","v":0}]
[]
["Ernst Hollenstein","Hotzenmattstr. 9",null,"8915 Hausen/a.A.",null,null,null,"044 713 12 44",null,null,"079 240 39 64",null,null,{"$f":"Schütze1!N$50","v":"holli41@bluewin.ch"}]

{"sheet":"Schütze3","index":2,"n_rows":51,"n_cols":15,"rows_kept":51,"cut":false,"hidden":false,"merged":[[46,0,46,1],[48,9,48,11],[38,3,38,12],[30,0,30,2],[32,0,32,10],[33,12,33,14],[40,0,40,1],[42,0,42,1],[44,0,44,1],[7,13,7,14],[34,0,34,2],[34,3,34,11],[35,3,35,4],[35,13,35,14],[36,3,36,11],[15,0,15,1],[17,0,17,1],[19,0,19,1],[21,9,21,11],[8,3,8,4],[8,13,8,14],[9,3,9,11],[11,3,11,12],[13,0,13,1],[2,12,3,13],[3,0,3,2],[5,0,5,11],[7,0,7,2],[7,3,7,11]]}
[]
[]
[]
[]
[]
[{"$f":"Schütze1!$A$6","v":"Corona Veteranen-Wettkampf 2020"}]
[]
["Name / Vorname",null,null,null,null,null,null,null,null,null,null,null,null,"Doppelpreis Fr. 20.--"]
["Jahrgang:",null,null,null,null,null,null,null,null,null,null,null,null,"Stellung"]
["Sektion:",null,null,null,null,null,null,null,null,null,null,null,null,"A oder F"]
[]
[null,null,null,"30 Schuss 10-er Scheibe (2 pro Karton)"]
[]
["Scheiben Nr. von - bis"]
[null,null,null,null,null,null,null,null,null,null,null,null,null,"Total"]
[null,null,"1. Passe",null,null,null,null,null,null,null,null,null,null,{"$f":"SUM(D16:M16)","v":0}]
[]
[null,null,"2. Passe",null,null,null,null,null,null,null,null,null,null,{"$f":"SUM(D18:M18)","v":0}]
[]
[null,null,"3. Passe",null,null,null,null,null,null,null,null,null,null,{"$f":"SUM(D20:M20)","v":0}]
[]
[null,null,null,null,null,null,null,null,null,"Total",null,null,null,{"$f":"SUM(N16:N21)","v":0}]
[]
["__"]
[]
[]
[]
[]
[]
[]
["EASV"]
[]
[{"$f":"A6","v":"Corona Veteranen-Wettkampf 2020"},null,null,null,null,null,null,null,null,null,null,null,"Doppel für den Schützen"]
[null,null,null,null,null,null,null,null,null,null,null,null,"Doppelpreis Fr. 20.--"]
["Name / Vorname",null,null,{"$f":"(D8)","v":0}]
["Jahrgang:",null,null,{"$f":"(D9)","v":0},null,null,null,null,null,null,null,null," ","Stellung"]
["Sektion:",null,null,{"$f":"(D10)","v":0},null,null,null,null,null,null,null,null,null,"A oder F",{"$f":"O10","v":0}]
[]
[null,null,null,"30 Schuss 10-er Scheibe (2 pro Karton)"]
[]
["Scheiben Nr. von - bis"]
[null,null,null,null,null,null,null,null,null,null,null,null,null,"Total"]
[{"$f":"(A16)","v":0},null,"1. Passe",{"$f":"D16","v":0},{"$f":"E16","v":0},0,0,0,0,0,0,0,0,{"$f":"SUM(D43:M43)","v":0}]
[]
[{"$f":"(A18)","v":0},null,"2. Passe",{"$f":"D18","v":0},0,0,0,0,0,0,0,0,0,{"$f":"SUM(D45:M45)","v":0}]
[]
[{"$f":"(A20)","v":0},null,"3. Passe",{"$f":"D20","v":0},0,0,0,0,0,0,0,0,0,{"$f":"SUM(D47:M47)","v":0}]
[]
[{"$f":"A22","v":"00:00:00"},null,null,null,null,null,null,null,null,"Total",null,null,null,{"$f":"SUM(N43:N48)","v":0}]
[]
["Ernst Hollenstein","Hotzenmattstr. 9",null,"8915 Hausen/a.A.",null,null,null,"044 713 12 44",null,null,"079 240 39 64",null,null,{"$f":"Schütze1!N$50","v":"holli41@bluewin.ch"}]

{"sheet":"Schütze4","index":3,"n_rows":51,"n_cols":15,"rows_kept":51,"cut":false,"hidden":false,"merged":[[15,0,15,1],[2,12,3,13],[3,0,3,2],[5,0,5,11],[7,0,7,2],[7,3,7,11],[7,13,7,14],[8,3,8,4],[8,13,8,14],[9,3,9,11],[11,3,11,12],[13,0,13,1],[38,3,38,12],[17,0,17,1],[19,0,19,1],[21,9,21,11],[30,0,30,2],[32,0,32,10],[33,12,33,14],[34,0,34,2],[44,0,44,1],[46,0,46,1],[48,9,48,11],[34,3,34,11],[35,3,35,4],[35,13,35,14],[36,3,36,11],[40,0,40,1],[42,0,42,1]]}
[]
[]
[]
[]
[]
[{"$f":"Schütze1!$A$6","v":"Corona Veteranen-Wettkampf 2020"}]
[]
["Name / Vorname",null,null,null,null,null,null,null,null,null,null,null,null,"Doppelpreis Fr. 20.--"]
["Jahrgang:",null,null,null,null,null,null,null,null,null,null,null,null,"Stellung"]
["Sektion:",null,null,null,null,null,null,null,null,null,null,null,null,"A oder F"]
[]
[null,null,null,"30 Schuss 10-er Scheibe (2 pro Karton)"]
[]
["Scheiben Nr. von - bis"]
[null,null,null,null,null,null,null,null,null,null,null,null,null,"Total"]
[null,null,"1. Passe",null,null,null,null,null,null,null,null,null,null,{"$f":"SUM(D16:M16)","v":0}]
[]
[null,null,"2. Passe",null,null,null,null,null,null,null,null,null,null,{"$f":"SUM(D18:M18)","v":0}]
[]
[null,null,"3. Passe",null,null,null,null,null,null,null,null,null,null,{"$f":"SUM(D20:M20)","v":0}]
[]
[null,null,null,null,null,null,null,null,null,"Total",null,null,null,{"$f":"SUM(N16:N21)","v":0}]
[]
["__"]
[]
[]
[]
[]
[]
[]
["EASV"]
[]
[{"$f":"A6","v":"Corona Veteranen-Wettkampf 2020"},null,null,null,null,null,null,null,null,null,null,null,"Doppel für den Schützen"]
[null,null,null,null,null,null,null,null,null,null,null,null,"Doppelpreis Fr. 20.--"]
["Name / Vorname",null,null,{"$f":"(D8)","v":0}]
["Jahrgang:",null,null,{"$f":"(D9)","v":0},null,null,null,null,null,null,null,null," ","Stellung"]
["Sektion:",null,null,{"$f":"(D10)","v":0},null,null,null,null,null,null,null,null,null,"A oder F",{"$f":"O10","v":0}]
[]
[null,null,null,"30 Schuss 10-er Scheibe (2 pro Karton)"]
[]
["Scheiben Nr. von - bis"]
[null,null,null,null,null,null,null,null,null,null,null,null,null,"Total"]
[{"$f":"(A16)","v":0},null,"1. Passe",{"$f":"D16","v":0},{"$f":"E16","v":0},0,0,0,0,0,0,0,0,{"$f":"SUM(D43:M43)","v":0}]
[]
[{"$f":"(A18)","v":0},null,"2. Passe",{"$f":"D18","v":0},0,0,0,0,0,0,0,0,0,{"$f":"SUM(D45:M45)","v":0}]
[]
[{"$f":"(A20)","v":0},null,"3. Passe",{"$f":"D20","v":0},0,0,0,0,0,0,0,0,0,{"$f":"SUM(D47:M47)","v":0}]
[]
[null,null,null,null,null,null,null,null,null,"Total",null,null,null,{"$f":"SUM(N43:N48)","v":0}]
[]
["Ernst Hollenstein","Hotzenmattstr. 9",null,"8915 Hausen/a.A.",null,null,null,"044 713 12 44",null,null,"079 240 39 64",null,null,{"$f":"Schütze1!N$50","v":"holli41@bluewin.ch"}]

{"sheet":"Schütze5","index":4,"n_rows":51,"n_cols":15,"rows_kept":51,"cut":false,"hidden":false,"merged":[[15,0,15,1],[2,12,3,13],[3,0,3,2],[5,0,5,11],[7,0,7,2],[7,3,7,11],[7,13,7,14],[8,3,8,4],[8,13,8,14],[9,3,9,11],[11,3,11,12],[13,0,13,1],[38,3,38,12],[17,0,17,1],[19,0,19,1],[21,9,21,11],[30,0,30,2],[32,0,32,10],[33,12,33,14],[34,0,34,2],[44,0,44,1],[46,0,46,1],[48,9,48,11],[34,3,34,11],[35,3,35,4],[35,13,35,14],[36,3,36,11],[40,0,40,1],[42,0,42,1]]}
[]
[]
[]
[]
[]
[{"$f":"Schütze1!$A$6","v":"Corona Veteranen-Wettkampf 2020"}]
[]
["Name / Vorname",null,null,null,null,null,null,null,null,null,null,null,null,"Doppelpreis Fr. 20.--"]
["Jahrgang:",null,null,null,null,null,null,null,null,null,null,null,null,"Stellung"]
["Sektion:",null,null,null,null,null,null,null,null,null,null,null,null,"A oder F"]
[]
[null,null,null,"30 Schuss 10-er Scheibe (2 pro Karton)"]
[]
["Scheiben Nr. von - bis"]
[null,null,null,null,null,null,null,null,null,null,null,null,null,"Total"]
[null,null,"1. Passe",null,null,null,null,null,null,null,null,null,null,{"$f":"SUM(D16:M16)","v":0}]
[]
[null,null,"2. Passe",null,null,null,null,null,null,null,null,null,null,{"$f":"SUM(D18:M18)","v":0}]
[]
[null,null,"3. Passe",null,null,null,null,null,null,null,null,null,null,{"$f":"SUM(D20:M20)","v":0}]
[]
[null,null,null,null,null,null,null,null,null,"Total",null,null,null,{"$f":"SUM(N16:N21)","v":0}]
[]
["__"]
[]
[]
[]
[]
[]
[]
["EASV"]
[]
[{"$f":"A6","v":"Corona Veteranen-Wettkampf 2020"},null,null,null,null,null,null,null,null,null,null,null,"Doppel für den Schützen"]
[null,null,null,null,null,null,null,null,null,null,null,null,"Doppelpreis Fr. 20.--"]
["Name / Vorname",null,null,{"$f":"(D8)","v":0}]
["Jahrgang:",null,null,{"$f":"(D9)","v":0},null,null,null,null,null,null,null,null," ","Stellung"]
["Sektion:",null,null,{"$f":"(D10)","v":0},null,null,null,null,null,null,null,null,null,"A oder F",{"$f":"O10","v":0}]
[]
[null,null,null,"30 Schuss 10-er Scheibe (2 pro Karton)"]
[]
["Scheiben Nr. von - bis"]
[null,null,null,null,null,null,null,null,null,null,null,null,null,"Total"]
[{"$f":"(A16)","v":0},null,"1. Passe",{"$f":"D16","v":0},{"$f":"E16","v":0},0,0,0,0,0,0,0,0,{"$f":"SUM(D43:M43)","v":0}]
[]
[{"$f":"(A18)","v":0},null,"2. Passe",{"$f":"D18","v":0},0,0,0,0,0,0,0,0,0,{"$f":"SUM(D45:M45)","v":0}]
[]
[{"$f":"(A20)","v":0},null,"3. Passe",{"$f":"D20","v":0},0,0,0,0,0,0,0,0,0,{"$f":"SUM(D47:M47)","v":0}]
[]
[null,null,null,null,null,null,null,null,null,"Total",null,null,null,{"$f":"SUM(N43:N48)","v":0}]
[]
["Ernst Hollenstein","Hotzenmattstr. 9",null,"8915 Hausen/a.A.",null,null,null,"044 713 12 44",null,null,"079 240 39 64",null,null,{"$f":"Schütze1!N$50","v":"holli41@bluewin.ch"}]

{"sheet":"Schütze6","index":5,"n_rows":51,"n_cols":15,"rows_kept":51,"cut":false,"hidden":false,"merged":[[15,0,15,1],[2,12,3,13],[3,0,3,2],[5,0,5,11],[7,0,7,2],[7,3,7,11],[7,13,7,14],[8,3,8,4],[8,13,8,14],[9,3,9,11],[11,3,11,12],[13,0,13,1],[38,3,38,12],[17,0,17,1],[19,0,19,1],[21,9,21,11],[30,0,30,2],[32,0,32,10],[33,12,33,14],[34,0,34,2],[44,0,44,1],[46,0,46,1],[48,9,48,11],[34,3,34,11],[35,3,35,4],[35,13,35,14],[36,3,36,11],[40,0,40,1],[42,0,42,1]]}
[]
[]
[]
[]
[]
[{"$f":"Schütze1!$A$6","v":"Corona Veteranen-Wettkampf 2020"}]
[]
["Name / Vorname",null,null,null,null,null,null,null,null,null,null,null,null,"Doppelpreis Fr. 20.--"]
["Jahrgang:",null,null,null,null,null,null,null,null,null,null,null,null,"Stellung"]
["Sektion:",null,null,null,null,null,null,null,null,null,null,null,null,"A oder F"]
[]
[null,null,null,"30 Schuss 10-er Scheibe (2 pro Karton)"]
[]
["Scheiben Nr. von - bis"]
[null,null,null,null,null,null,null,null,null,null,null,null,null,"Total"]
[null,null,"1. Passe",null,null,null,null,null,null,null,null,null,null,{"$f":"SUM(D16:M16)","v":0}]
[]
[null,null,"2. Passe",null,null,null,null,null,null,null,null,null,null,{"$f":"SUM(D18:M18)","v":0}]
[]
[null,null,"3. Passe",null,null,null,null,null,null,null,null,null,null,{"$f":"SUM(D20:M20)","v":0}]
[]
[null,null,null,null,null,null,null,null,null,"Total",null,null,null,{"$f":"SUM(N16:N21)","v":0}]
[]
["__"]
[]
[]
[]
[]
[]
[]
["EASV"]
[]
[{"$f":"A6","v":"Corona Veteranen-Wettkampf 2020"},null,null,null,null,null,null,null,null,null,null,null,"Doppel für den Schützen"]
[null,null,null,null,null,null,null,null,null,null,null,null,"Doppelpreis Fr. 20.--"]
["Name / Vorname",null,null,{"$f":"(D8)","v":0}]
["Jahrgang:",null,null,{"$f":"(D9)","v":0},null,null,null,null,null,null,null,null," ","Stellung"]
["Sektion:",null,null,{"$f":"(D10)","v":0},null,null,null,null,null,null,null,null,null,"A oder F",{"$f":"O10","v":0}]
[]
[null,null,null,"30 Schuss 10-er Scheibe (2 pro Karton)"]
[]
["Scheiben Nr. von - bis"]
[null,null,null,null,null,null,null,null,null,null,null,null,null,"Total"]
[{"$f":"(A16)","v":0},null,"1. Passe",{"$f":"D16","v":0},{"$f":"E16","v":0},0,0,0,0,0,0,0,0,{"$f":"SUM(D43:M43)","v":0}]
[]
[{"$f":"(A18)","v":0},null,"2. Passe",{"$f":"D18","v":0},0,0,0,0,0,0,0,0,0,{"$f":"SUM(D45:M45)","v":0}]
[]
[{"$f":"(A20)","v":0},null,"3. Passe",{"$f":"D20","v":0},0,0,0,0,0,0,0,0,0,{"$f":"SUM(D47:M47)","v":0}]
[]
[null,null,null,null,null,null,null,null,null,"Total",null,null,null,{"$f":"SUM(N43:N48)","v":0}]
[]
["Ernst Hollenstein","Hotzenmattstr. 9",null,"8915 Hausen/a.A.",null,null,null,"044 713 12 44",null,null,"079 240 39 64",null,null,{"$f":"Schütze1!N$50","v":"holli41@bluewin.ch"}]

{"sheet":"Schütze7","index":6,"n_rows":51,"n_cols":15,"rows_kept":51,"cut":false,"hidden":false,"merged":[[15,0,15,1],[2,12,3,13],[3,0,3,2],[5,0,5,11],[7,0,7,2],[7,3,7,11],[7,13,7,14],[8,3,8,4],[8,13,8,14],[9,3,9,11],[11,3,11,12],[13,0,13,1],[38,3,38,12],[17,0,17,1],[19,0,19,1],[21,9,21,11],[30,0,30,2],[32,0,32,10],[33,12,33,14],[34,0,34,2],[44,0,44,1],[46,0,46,1],[48,9,48,11],[34,3,34,11],[35,3,35,4],[35,13,35,14],[36,3,36,11],[40,0,40,1],[42,0,42,1]]}
[]
[]
[]
[]
[]
[{"$f":"Schütze1!$A$6","v":"Corona Veteranen-Wettkampf 2020"}]
[]
["Name / Vorname",null,null,null,null,null,null,null,null,null,null,null,null,"Doppelpreis Fr. 20.--"]
["Jahrgang:",null,null,null,null,null,null,null,null,null,null,null,null,"Stellung"]
["Sektion:",null,null,null,null,null,null,null,null,null,null,null,null,"A oder F"]
[]
[null,null,null,"30 Schuss 10-er Scheibe (2 pro Karton)"]
[]
["Scheiben Nr. von - bis"]
[null,null,null,null,null,null,null,null,null,null,null,null,null,"Total"]
[null,null,"1. Passe",null,null,null,null,null,null,null,null,null,null,{"$f":"SUM(D16:M16)","v":0}]
[]
[null,null,"2. Passe",null,null,null,null,null,null,null,null,null,null,{"$f":"SUM(D18:M18)","v":0}]
[]
[null,null,"3. Passe",null,null,null,null,null,null,null,null,null,null,{"$f":"SUM(D20:M20)","v":0}]
[]
[null,null,null,null,null,null,null,null,null,"Total",null,null,null,{"$f":"SUM(N16:N21)","v":0}]
[]
["__"]
[]
[]
[]
[]
[]
[]
["EASV"]
[]
[{"$f":"A6","v":"Corona Veteranen-Wettkampf 2020"},null,null,null,null,null,null,null,null,null,null,null,"Doppel für den Schützen"]
[null,null,null,null,null,null,null,null,null,null,null,null,"Doppelpreis Fr. 20.--"]
["Name / Vorname",null,null,{"$f":"(D8)","v":0}]
["Jahrgang:",null,null,{"$f":"(D9)","v":0},null,null,null,null,null,null,null,null," ","Stellung"]
["Sektion:",null,null,{"$f":"(D10)","v":0},null,null,null,null,null,null,null,null,null,"A oder F",{"$f":"O10","v":0}]
[]
[null,null,null,"30 Schuss 10-er Scheibe (2 pro Karton)"]
[]
["Scheiben Nr. von - bis"]
[null,null,null,null,null,null,null,null,null,null,null,null,null,"Total"]
[{"$f":"(A16)","v":0},null,"1. Passe",{"$f":"D16","v":0},{"$f":"E16","v":0},0,0,0,0,0,0,0,0,{"$f":"SUM(D43:M43)","v":0}]
[]
[{"$f":"(A18)","v":0},null,"2. Passe",{"$f":"D18","v":0},0,0,0,0,0,0,0,0,0,{"$f":"SUM(D45:M45)","v":0}]
[]
[{"$f":"(A20)","v":0},null,"3. Passe",{"$f":"D20","v":0},0,0,0,0,0,0,0,0,0,{"$f":"SUM(D47:M47)","v":0}]
[]
[null,null,null,null,null,null,null,null,null,"Total",null,null,null,{"$f":"SUM(N43:N48)","v":0}]
[]
["Ernst Hollenstein","Hotzenmattstr. 9",null,"8915 Hausen/a.A.",null,null,null,"044 713 12 44",null,null,"079 240 39 64",null,null,{"$f":"Schütze1!N$50","v":"holli41@bluewin.ch"}]

{"sheet":"Schütze8","index":7,"n_rows":51,"n_cols":15,"rows_kept":51,"cut":false,"hidden":false,"merged":[[15,0,15,1],[2,12,3,13],[3,0,3,2],[5,0,5,11],[7,0,7,2],[7,3,7,11],[7,13,7,14],[8,3,8,4],[8,13,8,14],[9,3,9,11],[11,3,11,12],[13,0,13,1],[38,3,38,12],[17,0,17,1],[19,0,19,1],[21,9,21,11],[30,0,30,2],[32,0,32,10],[33,12,33,14],[34,0,34,2],[44,0,44,1],[46,0,46,1],[48,9,48,11],[34,3,34,11],[35,3,35,4],[35,13,35,14],[36,3,36,11],[40,0,40,1],[42,0,42,1]]}
[]
[]
[]
[]
[]
[{"$f":"Schütze1!$A$6","v":"Corona Veteranen-Wettkampf 2020"}]
[]
["Name / Vorname",null,null,null,null,null,null,null,null,null,null,null,null,"Doppelpreis Fr. 20.--"]
["Jahrgang:",null,null,null,null,null,null,null,null,null,null,null,null,"Stellung"]
["Sektion:",null,null,null,null,null,null,null,null,null,null,null,null,"A oder F"]
[]
[null,null,null,"30 Schuss 10-er Scheibe (2 pro Karton)"]
[]
["Scheiben Nr. von - bis"]
[null,null,null,null,null,null,null,null,null,null,null,null,null,"Total"]
[null,null,"1. Passe",null,null,null,null,null,null,null,null,null,null,{"$f":"SUM(D16:M16)","v":0}]
[]
[null,null,"2. Passe",null,null,null,null,null,null,null,null,null,null,{"$f":"SUM(D18:M18)","v":0}]
[]
[null,null,"3. Passe",null,null,null,null,null,null,null,null,null,null,{"$f":"SUM(D20:M20)","v":0}]
[]
[null,null,null,null,null,null,null,null,null,"Total",null,null,null,{"$f":"SUM(N16:N21)","v":0}]
[]
["__"]
[]
[]
[]
[]
[]
[]
["EASV"]
[]
[{"$f":"A6","v":"Corona Veteranen-Wettkampf 2020"},null,null,null,null,null,null,null,null,null,null,null,"Doppel für den Schützen"]
[null,null,null,null,null,null,null,null,null,null,null,null,"Doppelpreis Fr. 20.--"]
["Name / Vorname",null,null,{"$f":"(D8)","v":0}]
["Jahrgang:",null,null,null,null,null,null,null,null,null,null,null," ","Stellung"]
["Sektion:",null,null,{"$f":"(D10)","v":0},null,null,null,null,null,null,null,null,null,"A oder F",{"$f":"O10","v":0}]
[]
[null,null,null,"30 Schuss 10-er Scheibe (2 pro Karton)"]
[]
["Scheiben Nr. von - bis"]
[null,null,null,null,null,null,null,null,null,null,null,null,null,"Total"]
[{"$f":"(A16)","v":0},null,"1. Passe",{"$f":"D16","v":0},{"$f":"E16","v":0},0,0,0,0,0,0,0,0,{"$f":"SUM(D43:M43)","v":0}]
[]
[{"$f":"(A18)","v":0},null,"2. Passe",{"$f":"D18","v":0},0,0,0,0,0,0,0,0,0,{"$f":"SUM(D45:M45)","v":0}]
[]
[{"$f":"(A20)","v":0},null,"3. Passe",{"$f":"D20","v":0},0,0,0,0,0,0,0,0,0,{"$f":"SUM(D47:M47)","v":0}]
[]
[null,null,null,null,null,null,null,null,null,"Total",null,null,null,{"$f":"SUM(N43:N48)","v":0}]
[]
["Ernst Hollenstein","Hotzenmattstr. 9",null,"8915 Hausen/a.A.",null,null,null,"044 713 12 44",null,null,"079 240 39 64",null,null,{"$f":"Schütze1!N$50","v":"holli41@bluewin.ch"}]

{"sheet":"Schütze9","index":8,"n_rows":51,"n_cols":15,"rows_kept":51,"cut":false,"hidden":false,"merged":[[15,0,15,1],[2,12,3,13],[3,0,3,2],[5,0,5,11],[7,0,7,2],[7,3,7,11],[7,13,7,14],[8,3,8,4],[8,13,8,14],[9,3,9,11],[11,3,11,12],[13,0,13,1],[38,3,38,12],[17,0,17,1],[19,0,19,1],[21,9,21,11],[30,0,30,2],[32,0,32,10],[33,12,33,14],[34,0,34,2],[44,0,44,1],[46,0,46,1],[48,9,48,11],[34,3,34,11],[35,3,35,4],[35,13,35,14],[36,3,36,11],[40,0,40,1],[42,0,42,1]]}
[]
[]
[]
[]
[]
[{"$f":"Schütze1!$A$6","v":"Corona Veteranen-Wettkampf 2020"}]
[]
["Name / Vorname",null,null,null,null,null,null,null,null,null,null,null,null,"Doppelpreis Fr. 20.--"]
["Jahrgang:",null,null,null,null,null,null,null,null,null,null,null,null,"Stellung"]
["Sektion:",null,null,null,null,null,null,null,null,null,null,null,null,"A oder F"]
[]
[null,null,null,"30 Schuss 10-er Scheibe (2 pro Karton)"]
[]
["Scheiben Nr. von - bis"]
[null,null,null,null,null,null,null,null,null,null,null,null,null,"Total"]
[null,null,"1. Passe",null,null,null,null,null,null,null,null,null,null,{"$f":"SUM(D16:M16)","v":0}]
[]
[null,null,"2. Passe",null,null,null,null,null,null,null,null,null,null,{"$f":"SUM(D18:M18)","v":0}]
[]
[null,null,"3. Passe",null,null,null,null,null,null,null,null,null,null,{"$f":"SUM(D20:M20)","v":0}]
[]
[null,null,null,null,null,null,null,null,null,"Total",null,null,null,{"$f":"SUM(N16:N21)","v":0}]
[]
["__"]
[]
[]
[]
[]
[]
[]
["EASV"]
[]
[{"$f":"A6","v":"Corona Veteranen-Wettkampf 2020"},null,null,null,null,null,null,null,null,null,null,null,"Doppel für den Schützen"]
[null,null,null,null,null,null,null,null,null,null,null,null,"Doppelpreis Fr. 20.--"]
["Name / Vorname",null,null,{"$f":"(D8)","v":0}]
["Jahrgang:",null,null,{"$f":"(D9)","v":0},null,null,null,null,null,null,null,null," ","Stellung"]
["Sektion:",null,null,{"$f":"(D10)","v":0},null,null,null,null,null,null,null,null,null,"A oder F",{"$f":"O10","v":0}]
[]
[null,null,null,"30 Schuss 10-er Scheibe (2 pro Karton)"]
[]
["Scheiben Nr. von - bis"]
[null,null,null,null,null,null,null,null,null,null,null,null,null,"Total"]
[{"$f":"(A16)","v":0},null,"1. Passe",{"$f":"D16","v":0},{"$f":"E16","v":0},0,0,0,0,0,0,0,0,{"$f":"SUM(D43:M43)","v":0}]
[]
[{"$f":"(A18)","v":0},null,"2. Passe",{"$f":"D18","v":0},0,0,0,0,0,0,0,0,0,{"$f":"SUM(D45:M45)","v":0}]
[]
[{"$f":"(A20)","v":0},null,"3. Passe",{"$f":"D20","v":0},0,0,0,0,0,0,0,0,0,{"$f":"SUM(D47:M47)","v":0}]
[]
[null,null,null,null,null,null,null,null,null,"Total",null,null,null,{"$f":"SUM(N43:N48)","v":0}]
[]
["Ernst Hollenstein","Hotzenmattstr. 9",null,"8915 Hausen/a.A.",null,null,null,"044 713 12 44",null,null,"079 240 39 64",null,null,{"$f":"Schütze1!N$50","v":"holli41@bluewin.ch"}]